BEGIN:VCALENDAR
VERSION:2.0
PRODID:-//hacksw/handcal//NONSGML v1.0//EN
BEGIN:VEVENT
SUMMARY:RC BOLBEC / G17
UID:4ff2a108-5b1e-4d38-ada0-8da0ccd39294
DTSTART:20260510T120000Z
DTEND:20260510T130000Z
LOCATION:Localisation   
CATEGORIES:Sportif
STATUS:
DESCRIPTION:<p><span class="style_libelle__8deNF">JACQUES
 ANQUETIL</span></p>
 
 <p><span>RUE DE LA
 CAVEE</span></p>
 
 <p><span>76210 BOLBEC</span></p>
URL;VALUE=URI:https://www.asghand.com/evenements/2026/05/10/rc-bolbec-g17-2436339
END:VEVENT
END:VCALENDAR
